BEGIN:VCALENDAR
VERSION:2.0
PRODID:-//Théâtre &quot;Le 10&quot; - Luxembourg - ECPv5.8.0//NONSGML v1.0//EN
CALSCALE:GREGORIAN
METHOD:PUBLISH
X-WR-CALNAME:Théâtre &quot;Le 10&quot; - Luxembourg
X-ORIGINAL-URL:https://theatre10.lu
X-WR-CALDESC:évènements pour Théâtre &quot;Le 10&quot; - Luxembourg
BEGIN:VTIMEZONE
TZID:UTC
BEGIN:STANDARD
TZOFFSETFROM:+0000
TZOFFSETTO:+0000
TZNAME:UTC
DTSTART:20180101T000000
END:STANDARD
END:VTIMEZONE
BEGIN:VEVENT
DTSTART;TZID=UTC:20181117T203000
DTEND;TZID=UTC:20181117T220000
DTSTAMP:20210722T181534
CREATED:20180921T060346Z
LAST-MODIFIED:20181115T084635Z
UID:2076-1542486600-1542492000@theatre10.lu
SUMMARY:THEATRE - LA VIE QUOTIDIENNE...
DESCRIPTION:LA VIE QUOTIDIENNE\nComédie\nMonté & Mis en scène : Alain Holtgen\navec Shiva Gholamianzadeh & Elise Dathie\, Alain Holtgen \nTrois personnages en quête de rien du tout\, juste de leur quotidien…\nUn voyage surréaliste dans la vie banale et incroyable de ces trois personnes… \nReprésentations :  20\, 21\, 27 octobre & 4\, 11\, 17\, 18 et 24 novembre à 20H30\nPlaces : 18 euros – Pré Vente : 16 euros\nEtudiants: 8 euros  – Spectacle à partir de 16 ans \nRéservations/Pré-vente : \nAchetez ICI à tarif réduit
URL:https://theatre10.lu/event/theatre-la-vie-quotidienne-6/
CATEGORIES:Théâtre
ATTACH;FMTTYPE=image/jpeg:https://theatre10.lu/wp-content/uploads/2018/09/IMG_1044.jpg
END:VEVENT
END:VCALENDAR