BEGIN:VCALENDAR
VERSION:2.0
PRODID:-//Théâtre &quot;Le 10&quot; - Luxembourg - ECPv5.8.0//NONSGML v1.0//EN
CALSCALE:GREGORIAN
METHOD:PUBLISH
X-WR-CALNAME:Théâtre &quot;Le 10&quot; - Luxembourg
X-ORIGINAL-URL:https://theatre10.lu
X-WR-CALDESC:évènements pour Théâtre &quot;Le 10&quot; - Luxembourg
BEGIN:VTIMEZONE
TZID:UTC
BEGIN:STANDARD
TZOFFSETFROM:+0000
TZOFFSETTO:+0000
TZNAME:UTC
DTSTART:20180101T000000
END:STANDARD
END:VTIMEZONE
BEGIN:VEVENT
DTSTART;TZID=UTC:20181104T183000
DTEND;TZID=UTC:20181104T200000
DTSTAMP:20210722T181845
CREATED:20180904T200130Z
LAST-MODIFIED:20181027T064951Z
UID:2028-1541356200-1541361600@theatre10.lu
SUMMARY:THEATRE - LA VIE QUOTIDIENNE...
DESCRIPTION:LA VIE QUOTIDIENNE\nComédie\nMonté & Mis en scène : Alain Holtgen\navec Shiva Gholamianzadeh & Elise Dathie\, Alain Holtgen \nTrois personnages en quête de rien du tout\, juste de leur quotidien…\nUn voyage surréaliste dans la vie banale et incroyable de ces trois personnes… \nReprésentations :\nLes samedis 20\, 27 octobre &  17\, et 24 novembre à 20H30\nLes dimanches  21 octobre & les 4\, 11\, 18 novembre à 18H30\nPlaces : 18 euros – Pré Vente : 16 euros\nEtudiants: 8 euros – Spectacle à partir de 16 ANS \nRéservations/Pré-vente : \nAchetez ICI à tarif réduit
URL:https://theatre10.lu/event/theatre-la-vie-quotidienne-2/
CATEGORIES:Théâtre
ATTACH;FMTTYPE=image/jpeg:https://theatre10.lu/wp-content/uploads/2018/09/DSC_8779-1.jpg
ORGANIZER;CN="Th%C3%A9%C3%A2tre%20LE%2010":MAILTO:contact@theatre10.lu
END:VEVENT
END:VCALENDAR