BEGIN:VCALENDAR
VERSION:2.0
PRODID:-//Théâtre &quot;Le 10&quot; - Luxembourg - ECPv5.8.0//NONSGML v1.0//EN
CALSCALE:GREGORIAN
METHOD:PUBLISH
X-WR-CALNAME:Théâtre &quot;Le 10&quot; - Luxembourg
X-ORIGINAL-URL:https://theatre10.lu
X-WR-CALDESC:évènements pour Théâtre &quot;Le 10&quot; - Luxembourg
BEGIN:VTIMEZONE
TZID:UTC
BEGIN:STANDARD
TZOFFSETFROM:+0000
TZOFFSETTO:+0000
TZNAME:UTC
DTSTART:20180101T000000
END:STANDARD
END:VTIMEZONE
BEGIN:VEVENT
DTSTART;TZID=UTC:20180127T200000
DTEND;TZID=UTC:20180128T220000
DTSTAMP:20210722T181345
CREATED:20171014T152257Z
LAST-MODIFIED:20171213T204311Z
UID:1451-1517083200-1517176800@theatre10.lu
SUMMARY:Provaci Ancora Sam  – Teatro italiano
DESCRIPTION:
URL:https://theatre10.lu/event/theatre-italien-teatro-italiano/
CATEGORIES:Théâtre
ATTACH;FMTTYPE=image/jpeg:https://theatre10.lu/wp-content/uploads/2017/10/woody-1.jpg
END:VEVENT
END:VCALENDAR