BEGIN:VCALENDAR
VERSION:2.0
PRODID:-//Théâtre &quot;Le 10&quot; - Luxembourg - ECPv5.8.0//NONSGML v1.0//EN
CALSCALE:GREGORIAN
METHOD:PUBLISH
X-WR-CALNAME:Théâtre &quot;Le 10&quot; - Luxembourg
X-ORIGINAL-URL:https://theatre10.lu
X-WR-CALDESC:évènements pour Théâtre &quot;Le 10&quot; - Luxembourg
BEGIN:VTIMEZONE
TZID:UTC
BEGIN:STANDARD
TZOFFSETFROM:+0000
TZOFFSETTO:+0000
TZNAME:UTC
DTSTART:20180101T000000
END:STANDARD
END:VTIMEZONE
BEGIN:VEVENT
DTSTART;TZID=UTC:20180916T180000
DTEND;TZID=UTC:20180916T200000
DTSTAMP:20210722T182120
CREATED:20180901T171930Z
LAST-MODIFIED:20180916T092723Z
UID:2015-1537120800-1537128000@theatre10.lu
SUMMARY:Stiiliharjutused
DESCRIPTION:  \n\nPühapäeval\, 16. septembril kell 18.00 saab Luxembourgis vaadata jälle eesti teatrit. Enamgi veel\, sest „Stiiliharjutused“ on ühtaegu nii teatrietendus\, kirjandusõhtu\, püstijalakomöödia kui ka bändiproov. See on lavastus\, mis asetab kirjanikud keset teatrit ja näitlejad keset kirjandust. Lavale astuvad Eva Koldits (NO99)\, Toomas Täht\, Jan Kaus ja Indrek Koff. \n  \n  \nLavastuse kaudseks põhjustajaks sai 2007. aastal ilmunud prantsuse kirjaniku Raymond Queneau’ raamatu „Stiiliharjutused“ eestikeelne tõlge. Teos sisaldab Pariisi kesklinna ühistranspordis aset leidva veidra juhtumi 99 versiooni\, näidates veenvalt\, kuidas üht ja sama lugu on võimalik täiesti erinevalt jutustada. Queneau’ teos teeb samaaegselt kaht asja: muudab meele lahedamaks ja keele vahedamaks.\nPaar aastat tagasi hakkas Eestis üks „Stiiliharjutuste“ fänn – kirjanik Jan Kaus – mõtlema\, et 99 pole tegelikult mingi piir. Võttes Teise maailmasõja järgse Prantsusmaa pealinnas aset leidnud loo\, hakkas Kaus kirjutama Queneau’ 99 versioonile lisaversioone\, millest mõnelgi küljes 21. sajandi alguse Eesti varjundid. Veidi aja pärast kutsus ta kampa mõned oma sõbrad\, et tuua uusversioonid paberilt lavale. Nii sündiski kirjandus- ja teatriinimeste koostöö: kaks näitlejat (Eva Koldits ja Toomas Täht) ning kaks kirjanikku (Jan Kaus ja Indrek Koff) esitavad ühest loost mitukümmend omaloomingulist versiooni\, sekka mõned Queneau’ originaalid – või nende tundmatuseni moondunud mugandused. „Stiiliharjutuste“ lavastus ei näita ainult ühe loo ja ning tegelikult kogu keele lõputut paljunemisvõimet\, vaid selles tuuakse kokku teatrietenduse\, kirjandusõhtu\, stand-up’i ja bändiproovi väljendusviisid. Kõik mõtted ja võtted on lubatud. \n \n„Stiiliharjutused“ sobivad nii õpetajatele kui õpilastele ehk teisisõnu nii koolinoortele kui täiskasvanutele – materjal on ühelt poolt õpetlik\, näidates\, kuidas üht ja sama asja on võimalik väljendada sajal erineval moel\, teisalt aga lõbus ja loominguline. \nLuxembourgis mängitakse etendust Théâtre le 10 saalis (595\, Rue de Neudorf\, L-2222 Luxembourg-Neudorf) \nRegistreerumine SIIN \n  \nPiletihinnad eelmüügist õpilastele 20 eurot\, LESi liikmetele 24 eurot\, mitteliikmetele 27 eurot. \nKohapeal maksab pilet kõigile 30 eurot. \n  \nPileti eest tasumiseks tehke palun ülekanne hiljemalt 12.09.2018 LESi kontole\nLU74 0019 2055 3919 4000 (BCEELULL) märksõnaga TEATER; selgitusse märkige nimed\, kelle eest tasuti. \n  \nEtenduse läbiviimist toetab Kultuuriministeerium.
URL:https://theatre10.lu/event/theatre-estonien/
CATEGORIES:Théâtre
ATTACH;FMTTYPE=image/jpeg:https://theatre10.lu/wp-content/uploads/2018/09/estonia-2.jpg
END:VEVENT
END:VCALENDAR