BEGIN:VCALENDAR
VERSION:2.0
PRODID:-//Théâtre &quot;Le 10&quot; - Luxembourg - ECPv5.1.5//NONSGML v1.0//EN
CALSCALE:GREGORIAN
METHOD:PUBLISH
X-WR-CALNAME:Théâtre &quot;Le 10&quot; - Luxembourg
X-ORIGINAL-URL:https://theatre10.lu
X-WR-CALDESC:Évènements pour Théâtre &quot;Le 10&quot; - Luxembourg
BEGIN:VTIMEZONE
TZID:UTC
BEGIN:STANDARD
TZOFFSETFROM:+0000
TZOFFSETTO:+0000
TZNAME:UTC
DTSTART:20180101T000000
END:STANDARD
END:VTIMEZONE
BEGIN:VEVENT
DTSTART;VALUE=DATE:20180210
DTEND;VALUE=DATE:20180212
DTSTAMP:20200814T230335
CREATED:20171213T195901Z
LAST-MODIFIED:20180106T115438Z
UID:1584-1518220800-1518393599@theatre10.lu
SUMMARY:Stage de Formation Expression oral en public& développement Personnel
DESCRIPTION: \nCOMMENT S’EXPRIMER EN PUBLIC \nAMELIORER VOS RELATIONS \nETRE LIBRE & COMMUNIQUER \nAUGMENTER VOTRE CONFIANCE EN VOUS \nCOMMENT TRAITER LES CONFLITS \n\nUn weekend pour vous sensibiliser et vous ouvrir à un autre monde relationnel. \nDes formateurs professionnels\nPascal Durante – comédien en Improvisation\, médiateur professionnel et professeur en théâtre d’Improvisation\nAlain Holtgen – directeur de l’Ecole de théâtre\, professeur en art du jeu d’acteur et de la parole\nIls pratiquent depuis plus de 10 à 20 ans au Luxembourg auprès de personnes privés et d’entreprises. \n \n\nContact Infos: +352.2620.3620 \n\nComment s’inscrire?\nEn envoyant votre fiche d’inscription à \nInscription via mail à inscription@ecoletheatre.lu \n\nSamedi 10 & Dimanche 11 décembre 2018\nHeures Samedi:  de 12H30 à 17H30\nHeures Dimanche:  de 9H30 à 17H30 \nCoût: 190 euros\nInscription: par envoi de votre\nInfos à notre bureau au téléphone: +352.2620.3620 \nECOLE DE THEATRE\n595 rue de Neudorf\nL 2220 Luxembourg \n\n   CALENDRIER DES STAGES ADULTES \nLes 6 et 7 janvier 2018 – Expression Orale & Développement personnel \nLes 10 & 11 février 2018 – Expression Orale & Développement personnel \nLes 7 et 8 avril 2018 – Expression Orale & Développement personnel \nLes 5 et 6 mai 2018 – Expression Orale & Développement personnel \n
URL:https://theatre10.lu/event/stage-workshop-expression-oral-en-public/
LOCATION:THEATRE LE 10\, 595\, rue de Neudorf\, Luxembourg\, 2220
CATEGORIES:Formation,Stage- Workshop
ATTACH;FMTTYPE=image/jpeg:https://theatre10.lu/wp-content/uploads/2017/12/Capture-d’écran-2017-12-09-à-14.13.05.jpg
END:VEVENT
END:VCALENDAR