BEGIN:VCALENDAR
VERSION:2.0
PRODID:-//Théâtre &quot;Le 10&quot; - Luxembourg - ECPv5.1.5//NONSGML v1.0//EN
CALSCALE:GREGORIAN
METHOD:PUBLISH
X-WR-CALNAME:Théâtre &quot;Le 10&quot; - Luxembourg
X-ORIGINAL-URL:https://theatre10.lu
X-WR-CALDESC:Évènements pour Théâtre &quot;Le 10&quot; - Luxembourg
BEGIN:VTIMEZONE
TZID:Europe/Helsinki
BEGIN:DAYLIGHT
TZOFFSETFROM:+0200
TZOFFSETTO:+0300
TZNAME:EEST
DTSTART:20200329T010000
END:DAYLIGHT
BEGIN:STANDARD
TZOFFSETFROM:+0300
TZOFFSETTO:+0200
TZNAME:EET
DTSTART:20201025T010000
END:STANDARD
END:VTIMEZONE
BEGIN:VEVENT
DTSTART;TZID=Europe/Helsinki:20200921T170000
DTEND;TZID=Europe/Helsinki:20200921T213000
DTSTAMP:20200811T203913
CREATED:20200807T105600Z
LAST-MODIFIED:20200807T111345Z
UID:3307-1600707600-1600723800@theatre10.lu
SUMMARY:RENTRÉE DES COURS ADULTESECOLE DE THEATRE A LUXEMBOURG
DESCRIPTION:
URL:https://theatre10.lu/event/rentree-des-cours-adultes-a-lecole-de-theatre/
LOCATION:THEATRE LE 10\, 595\, rue de Neudorf\, Luxembourg\, 2220
ATTACH;FMTTYPE=image/jpeg:https://theatre10.lu/wp-content/uploads/2020/08/151.jpg
END:VEVENT
END:VCALENDAR