BEGIN:VCALENDAR
VERSION:2.0
PRODID:-//Théâtre &quot;Le 10&quot; - Luxembourg - ECPv5.8.0//NONSGML v1.0//EN
CALSCALE:GREGORIAN
METHOD:PUBLISH
X-WR-CALNAME:Théâtre &quot;Le 10&quot; - Luxembourg
X-ORIGINAL-URL:https://theatre10.lu
X-WR-CALDESC:évènements pour Théâtre &quot;Le 10&quot; - Luxembourg
BEGIN:VTIMEZONE
TZID:UTC
BEGIN:STANDARD
TZOFFSETFROM:+0000
TZOFFSETTO:+0000
TZNAME:UTC
DTSTART:20190101T000000
END:STANDARD
END:VTIMEZONE
BEGIN:VEVENT
DTSTART;TZID=UTC:20190315T203000
DTEND;TZID=UTC:20190315T223000
DTSTAMP:20210722T175038
CREATED:20190108T142931Z
LAST-MODIFIED:20190204T173535Z
UID:2322-1552681800-1552689000@theatre10.lu
SUMMARY:HOTEL  "DELUXE -EN BOURG"- Théâtre-Comédie
DESCRIPTION:HOTEL “DELUXE – EN BOURG”\nCabaret-Comédie proposé par la Compagnie du 10\navec Tiphanie Devezin\, Jean-Paul Bissieux & Alain Holtgen \nA l’Hotel Deluxe-En Bourg\, rien ne va plus on plonge dans la 4e dimension\, entre le directeur\, le staff et les clients\, \non saute de situations burlesques et situations absurdes mais pourtant tout va pour le mieux. \nVenez vous plonger dans ce spectacle complètement total foutrac !!! \nDates:\nVendredi 15 Mars & 12 Avril à 20H30\nSamedi 16\, 23 Mars & 6 Avril à 20H30\nDimanche 24\, 31 Mars & 7 Avril à 18H30 \nPlaces: 20 euros – en pré-vente via réservations: 18 euros\nEtudiants: 8 euros \nThéâtre LE 10\n595\, rue de Neudorf\nL 2220 Luxembourg \nRéservations: (en cliquant ci dessous) \nRéservez & Achetez vos billets
URL:https://theatre10.lu/event/palace/
CATEGORIES:Théâtre
ATTACH;FMTTYPE=image/jpeg:https://theatre10.lu/wp-content/uploads/2019/01/2019-TH-LE-10-HOTEL-DELUXE-EN-BOURG-1.jpg
END:VEVENT
END:VCALENDAR