BEGIN:VCALENDAR
VERSION:2.0
PRODID:-//Théâtre &quot;Le 10&quot; - Luxembourg - ECPv5.8.0//NONSGML v1.0//EN
CALSCALE:GREGORIAN
METHOD:PUBLISH
X-WR-CALNAME:Théâtre &quot;Le 10&quot; - Luxembourg
X-ORIGINAL-URL:https://theatre10.lu
X-WR-CALDESC:évènements pour Théâtre &quot;Le 10&quot; - Luxembourg
BEGIN:VTIMEZONE
TZID:UTC
BEGIN:STANDARD
TZOFFSETFROM:+0000
TZOFFSETTO:+0000
TZNAME:UTC
DTSTART:20180101T000000
END:STANDARD
END:VTIMEZONE
BEGIN:VEVENT
DTSTART;TZID=UTC:20180126T203000
DTEND;TZID=UTC:20180126T223000
DTSTAMP:20210722T181744
CREATED:20171213T212113Z
LAST-MODIFIED:20171230T133630Z
UID:1593-1516998600-1517005800@theatre10.lu
SUMMARY:MITCH MATCH IMPRO  - Luxembourg VS Belgique ( L'Habérézina )
DESCRIPTION:Ven 26-Jan-2018 à 20H30\nTHEATRE LE 10 – LUXEMBOURG\n– Réservations & achat des places à prix réduit en pré-vente: Cliquez sur Achetez vos billets – \n \nInfos: par téléphone au +352 26 20 36 20 \n– Tarifs à la caisse du soir – \nEntrée:          14€       Etudiants:      8 € \n– Tarifs par pré vente ( cliquez sur Achetez vos Billets)\nEntrée:          12€      Etudiants/jeunes:      7 € \n  \n\nL’Arbitre invité\nMr Mystère \nLes Improtozaures\nXavier Désurmont\, Eléonore Rime\, Clémence J. Edmond\, Eric Gilliéron\, Fabiano Tavan \nL’équipe invitée\nLes improvisateurs de Belgique – L’Habérézina \nLe Maitre de Cérémonie\nAlain Holtgen \nLe Mitch Match Impro est inspiré du match d’Impro car il oppose deux team de comédiens improvisateurs sur 2 x 45 minutes\, performances des comédiens pour créer des scènes\, histoires\, folies\, fou rires devan tun public hyper enthousiaste. \nOrganisation\nLigue d’Improvisation Luxembourgeoise avec le partenariat de Theatreinfo.lu et du Théâtre Le 10.
URL:https://theatre10.lu/event/mitch-match-impro-luxembourg-vs-belgique-lhaberezina/
LOCATION:THEATRE LE 10\, 595\, rue de Neudorf\, Luxembourg\, 2220
CATEGORIES:Théâtre d'improvisation
ATTACH;FMTTYPE=image/jpeg:https://theatre10.lu/wp-content/uploads/2017/10/photocom-Match-au-le-10.jpg
ORGANIZER;CN="Ligue%20d%27Improvisation%20%C3%A0%20Luxembourg":MAILTO:contact@ligueimpro.lu
END:VEVENT
END:VCALENDAR