BEGIN:VCALENDAR
VERSION:2.0
PRODID:-//Théâtre &quot;Le 10&quot; - Luxembourg - ECPv5.8.0//NONSGML v1.0//EN
CALSCALE:GREGORIAN
METHOD:PUBLISH
X-WR-CALNAME:Théâtre &quot;Le 10&quot; - Luxembourg
X-ORIGINAL-URL:https://theatre10.lu
X-WR-CALDESC:évènements pour Théâtre &quot;Le 10&quot; - Luxembourg
BEGIN:VTIMEZONE
TZID:UTC
BEGIN:STANDARD
TZOFFSETFROM:+0000
TZOFFSETTO:+0000
TZNAME:UTC
DTSTART:20180101T000000
END:STANDARD
END:VTIMEZONE
BEGIN:VEVENT
DTSTART;TZID=UTC:20180421T203000
DTEND;TZID=UTC:20180421T223000
DTSTAMP:20210722T175239
CREATED:20171213T220010Z
LAST-MODIFIED:20180419T200542Z
UID:1614-1524342600-1524349800@theatre10.lu
SUMMARY:CATCH IMPRO - SOIREE EXCLUSIVELux. vs Belgique vs Suisse
DESCRIPTION:                                           REJOIGNEZ NOTRE PAGE EN CLIQUANT SUR LA PHOTO CI-DESSOUS
URL:https://theatre10.lu/event/limpro-comedy-show/
LOCATION:THEATRE LE 10\, 595\, rue de Neudorf\, Luxembourg\, 2220
CATEGORIES:Théâtre d'improvisation
ATTACH;FMTTYPE=image/jpeg:https://theatre10.lu/wp-content/uploads/2017/12/LIL-photocom-public.jpg
ORGANIZER;CN="Ligue%20d%27Improvisation%20%C3%A0%20Luxembourg":MAILTO:contact@ligueimpro.lu
END:VEVENT
END:VCALENDAR