BEGIN:VCALENDAR
VERSION:2.0
PRODID:-//Théâtre &quot;Le 10&quot; - Luxembourg - ECPv5.8.0//NONSGML v1.0//EN
CALSCALE:GREGORIAN
METHOD:PUBLISH
X-WR-CALNAME:Théâtre &quot;Le 10&quot; - Luxembourg
X-ORIGINAL-URL:https://theatre10.lu
X-WR-CALDESC:évènements pour Théâtre &quot;Le 10&quot; - Luxembourg
BEGIN:VTIMEZONE
TZID:UTC
BEGIN:STANDARD
TZOFFSETFROM:+0000
TZOFFSETTO:+0000
TZNAME:UTC
DTSTART:20180101T000000
END:STANDARD
END:VTIMEZONE
BEGIN:VEVENT
DTSTART;TZID=UTC:20180106T203000
DTEND;TZID=UTC:20180106T223000
DTSTAMP:20210722T181651
CREATED:20171213T210855Z
LAST-MODIFIED:20171230T134009Z
UID:1587-1515270600-1515277800@theatre10.lu
SUMMARY:L'IMPRO COMEDY SHOW - SPECIAL RETOUR VERS LE FUTUR
DESCRIPTION:L’IMPRO COMEDY SHOW – SPECIAL RETOUR VERS LE FUTUR \nRéservations & achat des places à tarif réduit: \nCliquez ici sur\n \nInfos: par téléphone au +352 26 20 36 20 \nTarif Normal à la caisse du soir:\nEntrée:          14€       Etudiants*:      8 € \nLieu:\nTHEATRE LE 10\nrue de Neudorf\, 595\nL – 2220 – Luxembourg \n  \nLe Présentateur de la soirée\nPascal Durante\nLes Improtozaures de la soirée\nPascal Durante\, Isabelle Jakubek\, Clémence J. Edmond\, Antoine Lefebvre \n \nL’Impro Comedy Show   est le spectacle créé en 2003 à la création des Improtozaures\, Les Improtozaures devront jouer les thèmes du public\, peu importe les thèmes les plus fantaisisites ou sérieux… \nOrganisation \nLigue d’Improvisation Luxembourgeoise avec le partenariat de Theatreinfo.lu et du Théâtre Le 10.
URL:https://theatre10.lu/event/limpro-comedy-show-special-retour-vers-le-futur/
LOCATION:THEATRE LE 10\, 595\, rue de Neudorf\, Luxembourg\, 2220
CATEGORIES:Théâtre d'improvisation
ATTACH;FMTTYPE=image/jpeg:https://theatre10.lu/wp-content/uploads/2017/12/time-tunnel-169.jpg
ORGANIZER;CN="Ligue%20d%27Improvisation%20%C3%A0%20Luxembourg":MAILTO:contact@ligueimpro.lu
END:VEVENT
END:VCALENDAR