BEGIN:VCALENDAR
VERSION:2.0
PRODID:-//Théâtre &quot;Le 10&quot; - Luxembourg - ECPv5.8.0//NONSGML v1.0//EN
CALSCALE:GREGORIAN
METHOD:PUBLISH
X-WR-CALNAME:Théâtre &quot;Le 10&quot; - Luxembourg
X-ORIGINAL-URL:https://theatre10.lu
X-WR-CALDESC:évènements pour Théâtre &quot;Le 10&quot; - Luxembourg
BEGIN:VTIMEZONE
TZID:UTC
BEGIN:STANDARD
TZOFFSETFROM:+0000
TZOFFSETTO:+0000
TZNAME:UTC
DTSTART:20170101T000000
END:STANDARD
END:VTIMEZONE
BEGIN:VEVENT
DTSTART;TZID=UTC:20171014T203000
DTEND;TZID=UTC:20171014T223000
DTSTAMP:20210722T174343
CREATED:20170828T060905Z
LAST-MODIFIED:20171014T150711Z
UID:1364-1508013000-1508020200@theatre10.lu
SUMMARY:L'IMPRO COMEDY SHOW LOST IN SPACE....
DESCRIPTION:La soirée est organisée au profit de l’équipe Dominos pour les Relais pour la vie organisés par la Fondation Cancer.
URL:https://theatre10.lu/event/limpro-comedy-show-joue-les-dominos-2/
CATEGORIES:Théâtre d'improvisation
ATTACH;FMTTYPE=image/jpeg:https://theatre10.lu/wp-content/uploads/2017/08/logo2015hD1-e1505140050312.jpg
END:VEVENT
END:VCALENDAR