BEGIN:VCALENDAR
VERSION:2.0
PRODID:-//Théâtre &quot;Le 10&quot; - Luxembourg - ECPv5.8.0//NONSGML v1.0//EN
CALSCALE:GREGORIAN
METHOD:PUBLISH
X-WR-CALNAME:Théâtre &quot;Le 10&quot; - Luxembourg
X-ORIGINAL-URL:https://theatre10.lu
X-WR-CALDESC:évènements pour Théâtre &quot;Le 10&quot; - Luxembourg
BEGIN:VTIMEZONE
TZID:UTC
BEGIN:STANDARD
TZOFFSETFROM:+0000
TZOFFSETTO:+0000
TZNAME:UTC
DTSTART:20190101T000000
END:STANDARD
END:VTIMEZONE
BEGIN:VEVENT
DTSTART;TZID=UTC:20190112T203000
DTEND;TZID=UTC:20190112T220000
DTSTAMP:20210722T181320
CREATED:20180901T165656Z
LAST-MODIFIED:20190106T132215Z
UID:2004-1547325000-1547330400@theatre10.lu
SUMMARY:L'IMPRO COMEDY SHOW RECOIT LA FRANCE AVEC LA LISM
DESCRIPTION:Achetez ici à Tarif réduit \n  \nL’IMPRO COMEDY SHOW reçoit la LISM de Seine & Marne \nLa Ligue d’Improvisation Luxembourgeoise reçoit les comédiens de la LISM en France!\nDepuis plusieurs années la prestigieuse LISM vient à Luxembourg pour présenter et partager une soirée exceptionnelle…. \nRéservez votre soirée vous n’allez pas  l’oublier ! \nRéservations & achat des places à tarif réduit:\nEntrée:          12€        Etudiants*:      8 €  ( inclus une boisson) \nTarif Normal à la caisse du soir:\nEntrée:          14€       Etudiants*:      8 € \nInfos: par téléphone au +352 26 20 36 20 \nLieu:\nTHEATRE LE 10\nrue de Neudorf\, 595\nL – 2220 – Luxembourg\nwww.theatre10.lu
URL:https://theatre10.lu/event/limpro-comedy-show-5/
CATEGORIES:Théâtre
ATTACH;FMTTYPE=image/jpeg:https://theatre10.lu/wp-content/uploads/2017/12/LIL-photocom-public.jpg
ORGANIZER;CN="Ligue%20d%27Improvisation%20%C3%A0%20Luxembourg":MAILTO:contact@ligueimpro.lu
END:VEVENT
END:VCALENDAR