BEGIN:VCALENDAR
VERSION:2.0
PRODID:-//Théâtre &quot;Le 10&quot; - Luxembourg - ECPv5.8.0//NONSGML v1.0//EN
CALSCALE:GREGORIAN
METHOD:PUBLISH
X-WR-CALNAME:Théâtre &quot;Le 10&quot; - Luxembourg
X-ORIGINAL-URL:https://theatre10.lu
X-WR-CALDESC:évènements pour Théâtre &quot;Le 10&quot; - Luxembourg
BEGIN:VTIMEZONE
TZID:UTC
BEGIN:STANDARD
TZOFFSETFROM:+0000
TZOFFSETTO:+0000
TZNAME:UTC
DTSTART:20180101T000000
END:STANDARD
END:VTIMEZONE
BEGIN:VEVENT
DTSTART;TZID=UTC:20181218T193000
DTEND;TZID=UTC:20181218T210000
DTSTAMP:20210722T175448
CREATED:20180901T164647Z
LAST-MODIFIED:20181212T113502Z
UID:2001-1545161400-1545166800@theatre10.lu
SUMMARY:L'IMPRO COMEDY SHOW invite...
DESCRIPTION:SPECTACLE D’IMPROVISATION THEATRALE\npar les classes Level Two\nMARDI 18 DECEMBRE à 19H30 \nVenez découvrir les talents des élèves de la classe Impro Level 2 – Une soirée exceptionnelle  que vous propose L’Ecole de Théâtre et le Théâtre Le 10 \nDans les conditions de spectacle\, les participants vcont font faire partager leur imagination\, leur créativité\, leur talent pendant 1H20 \nRéservez votre place!\nTicket d’entrée: 5 euros utilisables en achats boissons \nMARDI 18 DECEMBRE 2018 à 19H30\nTHEATRE LE 10\n595 rue de Neudorf\nL 2220 Luxembourg \nInfos par téléphone : +352.2620.3620 \nRéservations \nAchetez votre billet d’entrée
URL:https://theatre10.lu/event/limpro-comedy-show-4/
CATEGORIES:Théâtre,Théâtre d'improvisation
ATTACH;FMTTYPE=image/jpeg:https://theatre10.lu/wp-content/uploads/2018/08/DSC_0974-2.jpg
ORGANIZER;CN="Ligue%20d%27Improvisation%20%C3%A0%20Luxembourg":MAILTO:contact@ligueimpro.lu
END:VEVENT
END:VCALENDAR