BEGIN:VCALENDAR
VERSION:2.0
PRODID:-//Théâtre &quot;Le 10&quot; - Luxembourg - ECPv5.8.0//NONSGML v1.0//EN
CALSCALE:GREGORIAN
METHOD:PUBLISH
X-WR-CALNAME:Théâtre &quot;Le 10&quot; - Luxembourg
X-ORIGINAL-URL:https://theatre10.lu
X-WR-CALDESC:évènements pour Théâtre &quot;Le 10&quot; - Luxembourg
BEGIN:VTIMEZONE
TZID:UTC
BEGIN:STANDARD
TZOFFSETFROM:+0000
TZOFFSETTO:+0000
TZNAME:UTC
DTSTART:20180101T000000
END:STANDARD
END:VTIMEZONE
BEGIN:VEVENT
DTSTART;TZID=UTC:20180429T190000
DTEND;TZID=UTC:20180429T201500
DTSTAMP:20210722T181110
CREATED:20171116T162519Z
LAST-MODIFIED:20180425T082657Z
UID:1534-1525028400-1525032900@theatre10.lu
SUMMARY:LA TEMPÊTE - SHAKESPEARE avec la Cie T-âtre IBonillo
DESCRIPTION:Spectacle Version avec 3 comédiens sous chapiteau \nDécouvrez une version originale de la Tempête de Shakespeare et un grand moment de théâtre! \n\nEntrées à la caisse du soir \nAdultes:                                        18 euros  ou en Pré-Vente :  14 euros\nEtudiants & Pro. Comédiens: 08 euros \nElèves Ecole de Théâtre:        10 euros \nRéservations via achat ( Pré Vente ) de votre place en cliquant ci dessous sur Achetez vos Places: \nBilletterie Weezevent\n\n \n 
URL:https://theatre10.lu/event/la-tempete-shakespeare-avec-la-cie-t-atre-ibonillo/
LOCATION:Théâtre Le 10  – Chapiteau\, 595\, rue de Neudorf - Place du Théâtre\, Luxembourg\, 2220\, Luxembourg
CATEGORIES:Théâtre
ATTACH;FMTTYPE=image/jpeg:https://theatre10.lu/wp-content/uploads/2017/11/T-âtre-IBonillo-FLY-20171002-001-La-Tempête-Recto-3-1.jpg
ORGANIZER;CN="Th%C3%A9%C3%A2tre%20LE%2010":MAILTO:contact@theatre10.lu
END:VEVENT
END:VCALENDAR