BEGIN:VCALENDAR
VERSION:2.0
PRODID:-//Théâtre &quot;Le 10&quot; - Luxembourg - ECPv5.8.0//NONSGML v1.0//EN
CALSCALE:GREGORIAN
METHOD:PUBLISH
X-WR-CALNAME:Théâtre &quot;Le 10&quot; - Luxembourg
X-ORIGINAL-URL:https://theatre10.lu
X-WR-CALDESC:évènements pour Théâtre &quot;Le 10&quot; - Luxembourg
BEGIN:VTIMEZONE
TZID:UTC
BEGIN:STANDARD
TZOFFSETFROM:+0000
TZOFFSETTO:+0000
TZNAME:UTC
DTSTART:20180101T000000
END:STANDARD
END:VTIMEZONE
BEGIN:VEVENT
DTSTART;TZID=UTC:20180519T203000
DTEND;TZID=UTC:20180519T213000
DTSTAMP:20210722T181433
CREATED:20171116T154704Z
LAST-MODIFIED:20180515T110426Z
UID:1532-1526761800-1526765400@theatre10.lu
SUMMARY:UNE TEMPÊTE - d'après Shakespeare avec Isabelle Bonillo
DESCRIPTION:Spectacle Version avec la comédienne Isabelle Bonillo\nAprès les premières dates en Suisse à Lausanne\, découvrez une version originale de la Tempête de Shakespeare et un grand moment de théâtre! \n\nBilletterie Weezevent \nCaisse du soir\nTarif Adultes –  14 euros\nEtudiants  & Comédiens Pro. –  08 euros\nElèves Ecole de Théâtre – 10  euros
URL:https://theatre10.lu/event/la-tempete-shakespeare-avec-isabelle-bonillo-3/
LOCATION:THEATRE LE 10\, 595\, rue de Neudorf\, Luxembourg\, 2220
CATEGORIES:Théâtre
ATTACH;FMTTYPE=image/jpeg:https://theatre10.lu/wp-content/uploads/2017/11/T-âtre-IBonillo-FLY-20171002-001-La-Tempête-Recto-3-1.jpg
END:VEVENT
END:VCALENDAR