BEGIN:VCALENDAR
VERSION:2.0
PRODID:-//Théâtre &quot;Le 10&quot; - Luxembourg - ECPv5.8.0//NONSGML v1.0//EN
CALSCALE:GREGORIAN
METHOD:PUBLISH
X-WR-CALNAME:Théâtre &quot;Le 10&quot; - Luxembourg
X-ORIGINAL-URL:https://theatre10.lu
X-WR-CALDESC:évènements pour Théâtre &quot;Le 10&quot; - Luxembourg
BEGIN:VTIMEZONE
TZID:UTC
BEGIN:STANDARD
TZOFFSETFROM:+0000
TZOFFSETTO:+0000
TZNAME:UTC
DTSTART:20150101T000000
END:STANDARD
END:VTIMEZONE
BEGIN:VEVENT
DTSTART;TZID=UTC:20150327T190000
DTEND;TZID=UTC:20150327T203000
DTSTAMP:20210722T174253
CREATED:20181208T095257Z
LAST-MODIFIED:20181208T095940Z
UID:2260-1427482800-1427488200@theatre10.lu
SUMMARY:FENOMEN
DESCRIPTION:The theatre audiences in Luxembourg can enjoy two one-person shows\, whereas little theatre enthusiasts can enjoy the production Telephone Stories. \nOn 25 April at 6 pm\, the Miksteater’s production Telephone Stories\nPlaywright Kaido Rannik\, starring Aita Vaher\, Kristo Toots and Kaido Rannik. Location to be specified. \nOn 27 April at 7 pm\, Mait Malmsten will take the stage in his one-man show Phenomenon.\nAuthor Hristo Boychev\, director Madis Kalmet. Venue: Théâtre le 10\, rue de Neudorf 595\, Luxembourg-Neudorf.
URL:https://theatre10.lu/event/fenomen/
CATEGORIES:Théâtre
ATTACH;FMTTYPE=image/jpeg:https://theatre10.lu/wp-content/uploads/2018/12/TH.-LE-10-estonian-theater.jpg
END:VEVENT
END:VCALENDAR