BEGIN:VCALENDAR
VERSION:2.0
PRODID:-//Théâtre &quot;Le 10&quot; - Luxembourg - ECPv5.8.0//NONSGML v1.0//EN
CALSCALE:GREGORIAN
METHOD:PUBLISH
X-WR-CALNAME:Théâtre &quot;Le 10&quot; - Luxembourg
X-ORIGINAL-URL:https://theatre10.lu
X-WR-CALDESC:évènements pour Théâtre &quot;Le 10&quot; - Luxembourg
BEGIN:VTIMEZONE
TZID:UTC
BEGIN:STANDARD
TZOFFSETFROM:+0000
TZOFFSETTO:+0000
TZNAME:UTC
DTSTART:20170101T000000
END:STANDARD
END:VTIMEZONE
BEGIN:VEVENT
DTSTART;TZID=UTC:20171209T203000
DTEND;TZID=UTC:20171209T223000
DTSTAMP:20210722T181622
CREATED:20171208T090841Z
LAST-MODIFIED:20171208T090929Z
UID:1563-1512851400-1512858600@theatre10.lu
SUMMARY:CATCH IMPROHommes VS Femmes
DESCRIPTION:
URL:https://theatre10.lu/event/catch-improhommes-vs-femmes/
LOCATION:THEATRE LE 10\, 595\, rue de Neudorf\, Luxembourg\, 2220
CATEGORIES:Théâtre d'improvisation
ATTACH;FMTTYPE=image/gif:https://theatre10.lu/wp-content/uploads/2017/11/theater-curtains1.gif
ORGANIZER;CN="Ligue%20d%27Improvisation%20%C3%A0%20Luxembourg":MAILTO:contact@ligueimpro.lu
END:VEVENT
END:VCALENDAR