BEGIN:VCALENDAR
VERSION:2.0
PRODID:-//Théâtre &quot;Le 10&quot; - Luxembourg - ECPv5.8.0//NONSGML v1.0//EN
CALSCALE:GREGORIAN
METHOD:PUBLISH
X-WR-CALNAME:Théâtre &quot;Le 10&quot; - Luxembourg
X-ORIGINAL-URL:https://theatre10.lu
X-WR-CALDESC:évènements pour Théâtre &quot;Le 10&quot; - Luxembourg
BEGIN:VTIMEZONE
TZID:UTC
BEGIN:STANDARD
TZOFFSETFROM:+0000
TZOFFSETTO:+0000
TZNAME:UTC
DTSTART:20170101T000000
END:STANDARD
END:VTIMEZONE
BEGIN:VEVENT
DTSTART;TZID=UTC:20171118T203000
DTEND;TZID=UTC:20171118T223000
DTSTAMP:20210722T180950
CREATED:20171022T124319Z
LAST-MODIFIED:20171114T204217Z
UID:1467-1511037000-1511044200@theatre10.lu
SUMMARY:CATCH IMPRO - Théâtre d'Improvisation à Luxembourg
DESCRIPTION:
URL:https://theatre10.lu/event/catch-impro-theatre-dimprovisation-a-luxembourg/
CATEGORIES:Théâtre d'improvisation
ATTACH;FMTTYPE=image/png:https://theatre10.lu/wp-content/uploads/2017/09/catch-logo.png
ORGANIZER;CN="Ligue%20d%27Improvisation%20%C3%A0%20Luxembourg":MAILTO:contact@ligueimpro.lu
END:VEVENT
END:VCALENDAR