BEGIN:VCALENDAR
VERSION:2.0
PRODID:-//Theatre le 10 - Luxembourg - ECPv5.0.0//NONSGML v1.0//EN
CALSCALE:GREGORIAN
METHOD:PUBLISH
X-WR-CALNAME:Theatre le 10 - Luxembourg
X-ORIGINAL-URL:http://theatre10.lu
X-WR-CALDESC:Évènements pour Theatre le 10 - Luxembourg
BEGIN:VTIMEZONE
TZID:UTC
BEGIN:STANDARD
TZOFFSETFROM:+0000
TZOFFSETTO:+0000
TZNAME:UTC
DTSTART:20200101T000000
END:STANDARD
END:VTIMEZONE
BEGIN:VEVENT
DTSTART;TZID=UTC:20200209T090000
DTEND;TZID=UTC:20200209T170000
DTSTAMP:20200426T102224
CREATED:20200114T140200Z
LAST-MODIFIED:20200114T182255Z
UID:3144-1581238800-1581267600@theatre10.lu
SUMMARY:Theaterstage  op Lëtzebuergesch fir Erwuessener
DESCRIPTION: \nTheater an Improvisatioun’s Stagen fir Erwuessener (Ufänger) \n\n\n9. Februar 2020 – Theater & Improvisatioun\n\nRef: B2 / Mount gewielt (fir op Ärem Umeldungsformular ze schreiwen) \n\nSonndes vun 9:00 bis 17:00 Auer.\nSprooch: Lëtzebuergesch\n99 Euro\n\n\nDës Coursen sinn Entdeckungs Coursen déi eng Initiatioun am Theater an der Improvisatioun erlaben. Et erméiglecht eng ideal Entdeckung an eng Approche zum Theaterstéck\, awer och säin ëffentlechen Ausdrock ze verbesseren. Dëse Cours ass op fir Ufänger.Eis Stagen gin vu professionelle Schauspiller vun Lëtzebuerg ausgestallt.\n\n\nWat fir Themen ginn iwwer dës Stagen ofgedeckt? \n\nImprovisatioun ideal fir Ufänger\n\n\nWéi sech ze preparéieren – d’Wärmungen\, d’Virbereedung vum Schauspiller\n\n\nD’Personnagen\, wien sinn ech am Spill ? Waat as mäin Ziehl ?\n\n\nReal spillen\n\n\nEmotiounen\, Kommunikatioun\n\n\nDen Spillraum\nImprovisatioun\, lauschteren\, spillen\, Kreativitéit asw\n\n  \n  \nSchéckt Äert Umeldungsformular\, waart op Är Bestätegung an da maacht Äre Stagebezuelung fir Är Participatioun dermat ze bestätegen. \n  \nKONDITIOUNEN \n– Et gëtt gefrot fir flexiblen Kleeder a Turnschong fir am Stage ze bréngen \n– « Snacks » kënnen op der Plaz bruecht ginn. \n– D’Umeldungskäschte si virum Cours. \n– Bezuelung soll mat Iwwerweisung gemaach ginn. \n– All Bezuelung ass net rembourséiert\, ausser d’Verantwortung vun der Schoul. \n  \n– Méi Info um Tel. 26.20.36.20 oder per Mail bureau@ecoletheatre.lu \n
URL:http://theatre10.lu/event/theaterstage-op-letzebuergesch-fir-adult/
LOCATION:THEATRE LE 10\, 595\, rue de Neudorf\, Luxembourg\, 2220
ATTACH;FMTTYPE=image/jpeg:http://theatre10.lu/wp-content/uploads/2019/08/Theatre-scene-image.jpg
END:VEVENT
END:VCALENDAR