BEGIN:VCALENDAR
VERSION:2.0
PRODID:-//Theatre le 10 - Luxembourg - ECPv5.0.0//NONSGML v1.0//EN
CALSCALE:GREGORIAN
METHOD:PUBLISH
X-WR-CALNAME:Theatre le 10 - Luxembourg
X-ORIGINAL-URL:http://theatre10.lu
X-WR-CALDESC:Évènements pour Theatre le 10 - Luxembourg
BEGIN:VTIMEZONE
TZID:UTC
BEGIN:STANDARD
TZOFFSETFROM:+0000
TZOFFSETTO:+0000
TZNAME:UTC
DTSTART:20190101T000000
END:STANDARD
END:VTIMEZONE
BEGIN:VEVENT
DTSTART;TZID=UTC:20191217T193000
DTEND;TZID=UTC:20191217T213000
DTSTAMP:20200427T071207
CREATED:20190812T194909Z
LAST-MODIFIED:20191208T151548Z
UID:2773-1576611000-1576618200@theatre10.lu
SUMMARY:PORTES OUVERTES SUR L'IMPRO THEATRALE
DESCRIPTION:  \n \nLe Show Trimestriel des nouveaux Futurs Talents….. \nVenez passer une soirée pas comme les autres avec les Nouveaux talents d’Impro de Demain? \nRéservez votre place \n  \n\nVenez découvrir les performances sur la ” Patinoire ” comme lors des grands Matchs d’Improvisation” \n\nPROGRAMME DES TROIS JOURS DES “PORTES OUVERTES SUR L’IMPROVISATION THEATRALE \nPendant trois soirées\, venez assister à la démonstration du théâtre d’improvisation par les classes de l’Ecole de Théâtre à Luxembourg.\nLes Graines de Stars de l’improvisation théâtrale en scène pour votre plaisir!!!\nSoyez présents à une des 3 soirées uniques! \nMardi 17 décembre 2019\n19H30 – Classe 1 du Mardi niveau A\n20H15 entr’acte\n20H30 – Classe 2 niveau supérieur \nMercredi 18 décembre 2019\n19H30 – Classe 3 du Mercredi niveau A\n20H15 entr’acte\n20H30 – Classe 4 du Mercredi niveau A \nJeudi 19 décembre 2019\n19H30 – Classe 5 du Jeudi niveau A\n20H15 entr’acte\n20H30 – Classe 6 du Jeudi niveau A \nEntrée unique: 6 euros  – votre entrée = bons de boissons\nEntrée enfants: Gratuite\nOuverture des portes à 19H15 \nIl est souhaité de réserver! \nRéservez votre place \nThéâtre Le 10\n595\, rue de Neudorf\nL 2220 Luxembourg \nInformations au téléphone: +352 – 2620.3620 \n
URL:http://theatre10.lu/event/portes-ouvertes-sur-limpro/
LOCATION:THEATRE LE 10\, 595\, rue de Neudorf\, Luxembourg\, 2220
CATEGORIES:Théâtre,Théâtre d'improvisation
ATTACH;FMTTYPE=image/jpeg:http://theatre10.lu/wp-content/uploads/2019/08/2019-Portes-ouvertes-impro.jpg
END:VEVENT
END:VCALENDAR