BEGIN:VCALENDAR
VERSION:2.0
PRODID:-//Theatre le 10 - Luxembourg - ECPv5.0.0//NONSGML v1.0//EN
CALSCALE:GREGORIAN
METHOD:PUBLISH
X-WR-CALNAME:Theatre le 10 - Luxembourg
X-ORIGINAL-URL:http://theatre10.lu
X-WR-CALDESC:Évènements pour Theatre le 10 - Luxembourg
BEGIN:VTIMEZONE
TZID:UTC
BEGIN:STANDARD
TZOFFSETFROM:+0000
TZOFFSETTO:+0000
TZNAME:UTC
DTSTART:20200101T000000
END:STANDARD
END:VTIMEZONE
BEGIN:VEVENT
DTSTART;TZID=UTC:20200126T150000
DTEND;TZID=UTC:20200126T160000
DTSTAMP:20200426T101928
CREATED:20191126T091308Z
LAST-MODIFIED:20200121T075421Z
UID:2991-1580050800-1580054400@theatre10.lu
SUMMARY:Les Pouvoirs du Magicien- Spectacle tout public -Luxembourg
DESCRIPTION: \nLa nouvelle comédie magique de Manu MOLINERO \n« Manu\, grand artiste magicien\, démarre son spectacle quand\, soudainement\, ses pouvoirs disparaissent !\nIl fait alors appel à son Maître de Magie qui lui indique le chemin à suivre pour les retrouver. Les enfants l’aideront dans sa quête en lui rappelant les qualités principales à avoir pour être de nouveau un « Grand » magicien !\nComment fera-t-il ? Saura-t-il mettre en application les conseils des enfants et de son Maître?\nRéponse dans ce spectacle familial de magie théâtralisée où priment interaction avec le public\, humour\, suspens\, grande illusion\, mentalisme\, musique et quelques valeurs de vie…\nPour la plus grande joie des enfants et de leurs parents ! » \nDurée : 1 heure\nPublic familial\nTarif : de 10 à 15€ \nAchetez /Résevez vos billets \nDimanche 26 Janvier 2020  à 15H \nThéâtre Le 10\n595 rue de Neudorf\nL 2220 Luxembourg \nInfos/tél. +352 – 2620.3620 \nEntrées Adultes – 15 euros\nEntrées Jeunes/Etudiants – 10 euros \n
URL:http://theatre10.lu/event/les-pouvoirs-du-magicien/
LOCATION:THEATRE LE 10\, 595\, rue de Neudorf\, Luxembourg\, 2220
CATEGORIES:Magie
ATTACH;FMTTYPE=image/jpeg:http://theatre10.lu/wp-content/uploads/2019/05/image1-1.jpg
END:VEVENT
END:VCALENDAR