BEGIN:VCALENDAR
VERSION:2.0
PRODID:-//Theatre le 10 - Luxembourg - ECPv5.0.0//NONSGML v1.0//EN
CALSCALE:GREGORIAN
METHOD:PUBLISH
X-WR-CALNAME:Theatre le 10 - Luxembourg
X-ORIGINAL-URL:http://theatre10.lu
X-WR-CALDESC:Évènements pour Theatre le 10 - Luxembourg
BEGIN:VTIMEZONE
TZID:UTC
BEGIN:STANDARD
TZOFFSETFROM:+0000
TZOFFSETTO:+0000
TZNAME:UTC
DTSTART:20200101T000000
END:STANDARD
END:VTIMEZONE
BEGIN:VEVENT
DTSTART;TZID=UTC:20200208T200000
DTEND;TZID=UTC:20200208T220000
DTSTAMP:20200426T102157
CREATED:20191212T093245Z
LAST-MODIFIED:20200129T161738Z
UID:3046-1581192000-1581199200@theatre10.lu
SUMMARY:GRAND MATCH IMPROBelgique vs Luxembourg
DESCRIPTION: \n2 EQUIPES DE BELGIQUE\nNamur\nArlon\n1 EQUIPE DE LUXEMBOURG\nLuxembourg\nSAMEDI 8 FEVRIER à 20H \nau Théâtre LE 10\nà LUXEMBOURG\nSEREZ VOUS PRÉSENTS ????\nRéservez votre place en cliquant sur la photo ci dessus!\n\n
URL:http://theatre10.lu/event/improvisation-theatrale-le-show-100-delires/
LOCATION:THEATRE LE 10\, 595\, rue de Neudorf\, Luxembourg\, 2220
ATTACH;FMTTYPE=image/jpeg:http://theatre10.lu/wp-content/uploads/2019/12/D564E214-D5FD-4A7C-B8D8-900609F49F91_4_5005_c.jpeg
END:VEVENT
END:VCALENDAR