BEGIN:VCALENDAR
VERSION:2.0
PRODID:-//Theatre le 10 - Luxembourg - ECPv5.0.0//NONSGML v1.0//EN
CALSCALE:GREGORIAN
METHOD:PUBLISH
X-WR-CALNAME:Theatre le 10 - Luxembourg
X-ORIGINAL-URL:http://theatre10.lu
X-WR-CALDESC:Évènements pour Theatre le 10 - Luxembourg
BEGIN:VTIMEZONE
TZID:UTC
BEGIN:STANDARD
TZOFFSETFROM:+0000
TZOFFSETTO:+0000
TZNAME:UTC
DTSTART:20200101T000000
END:STANDARD
END:VTIMEZONE
BEGIN:VEVENT
DTSTART;TZID=UTC:20200111T200000
DTEND;TZID=UTC:20200111T220000
DTSTAMP:20200426T101644
CREATED:20191124T224944Z
LAST-MODIFIED:20200111T152210Z
UID:2986-1578772800-1578780000@theatre10.lu
SUMMARY:GRAND CATCH IMPRO----> COMPLET 
DESCRIPTION:Eric Ledoc \nRéservations & achat des places:  \nLes places achetées via « Achetez/ Réservez vos billets » bénéficient d’une boisson offerte. \nInfos: par téléphone au +352 26 20 36 20 \nTarifs à la caisse du soir\nEntrée:          15€      Jeunes & Etudiants:      10 € \nEn réservant à l’avance vos places\, nous vous offrons votre boisson Du soft au Crémant!!!\nAchetez & Réservez vos billets \n\nLe Catch impro* est le spectacle où deux « Duo de comédiens » vont s’affronter sur un « ring » et improviser pendant deux périodes de 45 minutes sur des thèmes et dans des styles théâtraux imposés par un arbitre appelé maître du jeu.\nMais ici\, pas de temps de préparation\, dans l’immédiat\, une fois le thème énoncé\, l’histoire débute sous vos yeux. \n« TOUS ENSEMBLE 5\, 4\, 3\, 2\, 1 IMPRO ! ». \nDate: Samedi 11 janvier  2020 à 20h00  (ouverture des portes à 20h00)\nLieu: THEATRE LE 10\nrue de Neudorf\, 595 (en dessous de Kalchesbréck)\nL 2220 – Luxembourg-Neudorf \nBar – dès votre arrivée et à l’entr’acte \nLES CATCHEURS (Comédiens) D’IMPRO\nInvités: Eric Le doc & co\nLuxembourg team: Pascal D. & Jenny \nVotre présentateur du soir:\nAlain Holtgen \nSpectacle pour public à partir de 13 ans   \nCatch Impro  est une création de « inédit théâtre » à Strasbourg \nAchetez & Réservez vos billets \n \n \n  \n  \nAchetez & Réservez vos billets \n
URL:http://theatre10.lu/event/catch-improluxxembourg-vs-france/
LOCATION:THEATRE LE 10\, 595\, rue de Neudorf\, Luxembourg\, 2220
CATEGORIES:Théâtre d'improvisation
ATTACH;FMTTYPE=image/jpeg:http://theatre10.lu/wp-content/uploads/2018/10/DSC_9024-1.jpg
ORGANIZER;CN="Ligue%20d%27Improvisation%20%C3%A0%20Luxembourg":MAILTO:contact@ligueimpro.lu
END:VEVENT
END:VCALENDAR