BEGIN:VCALENDAR
VERSION:2.0
PRODID:-//Theatre le 10 - Luxembourg - ECPv5.0.0//NONSGML v1.0//EN
CALSCALE:GREGORIAN
METHOD:PUBLISH
X-WR-CALNAME:Theatre le 10 - Luxembourg
X-ORIGINAL-URL:http://theatre10.lu
X-WR-CALDESC:Évènements pour Theatre le 10 - Luxembourg
BEGIN:VTIMEZONE
TZID:UTC
BEGIN:STANDARD
TZOFFSETFROM:+0000
TZOFFSETTO:+0000
TZNAME:UTC
DTSTART:20190101T000000
END:STANDARD
END:VTIMEZONE
BEGIN:VEVENT
DTSTART;TZID=UTC:20191123T200000
DTEND;TZID=UTC:20191123T220000
DTSTAMP:20200427T070831
CREATED:20190812T193435Z
LAST-MODIFIED:20191119T134530Z
UID:2768-1574539200-1574546400@theatre10.lu
SUMMARY:L'IMPRO COMEDY SHOW
DESCRIPTION: \n \nPascal Durante \n
URL:http://theatre10.lu/event/catch-improles-duos-improcibles/
LOCATION:THEATRE LE 10\, 595\, rue de Neudorf\, Luxembourg\, 2220
CATEGORIES:Théâtre,Théâtre d'improvisation
ATTACH;FMTTYPE=image/jpeg:http://theatre10.lu/wp-content/uploads/2019/07/ImproComedyGenerique2019-1.jpg
ORGANIZER;CN="Ligue%20d%27Improvisation%20%C3%A0%20Luxembourg":MAILTO:contact@ligueimpro.lu
END:VEVENT
END:VCALENDAR